BEGIN:VCALENDAR
VERSION:2.0
PRODID:-//Rising Phoenix Blacksmith - ECPv6.15.20//NONSGML v1.0//EN
CALSCALE:GREGORIAN
METHOD:PUBLISH
X-ORIGINAL-URL:https://risingphoenixblacksmith.com
X-WR-CALDESC:Events for Rising Phoenix Blacksmith
REFRESH-INTERVAL;VALUE=DURATION:PT1H
X-Robots-Tag:noindex
X-PUBLISHED-TTL:PT1H
BEGIN:VTIMEZONE
TZID:America/New_York
BEGIN:DAYLIGHT
TZOFFSETFROM:-0500
TZOFFSETTO:-0400
TZNAME:EDT
DTSTART:20230312T070000
END:DAYLIGHT
BEGIN:STANDARD
TZOFFSETFROM:-0400
TZOFFSETTO:-0500
TZNAME:EST
DTSTART:20231105T060000
END:STANDARD
BEGIN:DAYLIGHT
TZOFFSETFROM:-0500
TZOFFSETTO:-0400
TZNAME:EDT
DTSTART:20240310T070000
END:DAYLIGHT
BEGIN:STANDARD
TZOFFSETFROM:-0400
TZOFFSETTO:-0500
TZNAME:EST
DTSTART:20241103T060000
END:STANDARD
BEGIN:DAYLIGHT
TZOFFSETFROM:-0500
TZOFFSETTO:-0400
TZNAME:EDT
DTSTART:20250309T070000
END:DAYLIGHT
BEGIN:STANDARD
TZOFFSETFROM:-0400
TZOFFSETTO:-0500
TZNAME:EST
DTSTART:20251102T060000
END:STANDARD
END:VTIMEZONE
BEGIN:VEVENT
DTSTART;TZID=America/New_York:20241126T160000
DTEND;TZID=America/New_York:20241126T190000
DTSTAMP:20260423T114058
CREATED:20241114T200959Z
LAST-MODIFIED:20241114T200959Z
UID:103-1732636800-1732647600@risingphoenixblacksmith.com
SUMMARY:2 Openings For Railroad Spike Knife CLass
DESCRIPTION:We have 2 open spots for a railroad spike knife class.
URL:https://risingphoenixblacksmith.com/event/2-openings-for-railroad-spike-knife-class/
LOCATION:Rising Phoenix Blacksmith\, East Flat Rock\, NC\, 28726\, United States
END:VEVENT
END:VCALENDAR