BEGIN:VCALENDAR
VERSION:2.0
PRODID:-//Rising Phoenix Blacksmith - ECPv6.15.20//NONSGML v1.0//EN
CALSCALE:GREGORIAN
METHOD:PUBLISH
X-WR-CALNAME:Rising Phoenix Blacksmith
X-ORIGINAL-URL:https://risingphoenixblacksmith.com
X-WR-CALDESC:Events for Rising Phoenix Blacksmith
REFRESH-INTERVAL;VALUE=DURATION:PT1H
X-Robots-Tag:noindex
X-PUBLISHED-TTL:PT1H
BEGIN:VTIMEZONE
TZID:America/New_York
BEGIN:DAYLIGHT
TZOFFSETFROM:-0500
TZOFFSETTO:-0400
TZNAME:EDT
DTSTART:20240310T070000
END:DAYLIGHT
BEGIN:STANDARD
TZOFFSETFROM:-0400
TZOFFSETTO:-0500
TZNAME:EST
DTSTART:20241103T060000
END:STANDARD
BEGIN:DAYLIGHT
TZOFFSETFROM:-0500
TZOFFSETTO:-0400
TZNAME:EDT
DTSTART:20250309T070000
END:DAYLIGHT
BEGIN:STANDARD
TZOFFSETFROM:-0400
TZOFFSETTO:-0500
TZNAME:EST
DTSTART:20251102T060000
END:STANDARD
BEGIN:DAYLIGHT
TZOFFSETFROM:-0500
TZOFFSETTO:-0400
TZNAME:EDT
DTSTART:20260308T070000
END:DAYLIGHT
BEGIN:STANDARD
TZOFFSETFROM:-0400
TZOFFSETTO:-0500
TZNAME:EST
DTSTART:20261101T060000
END:STANDARD
END:VTIMEZONE
BEGIN:VEVENT
DTSTART;TZID=America/New_York:20250111T130000
DTEND;TZID=America/New_York:20250111T160000
DTSTAMP:20260423T100436
CREATED:20241209T005613Z
LAST-MODIFIED:20241209T005613Z
UID:131-1736600400-1736611200@risingphoenixblacksmith.com
SUMMARY:Private Railroad Spike Knife Class
DESCRIPTION:Private Railroad spike knife class.     
URL:https://risingphoenixblacksmith.com/event/private-railroad-spike-knife-class-2/
LOCATION:Rising Phoenix Blacksmith\, East Flat Rock\, NC\, 28726\, United States
CATEGORIES:Classes
END:VEVENT
END:VCALENDAR