BEGIN:VCALENDAR
VERSION:2.0
PRODID:-//Rising Phoenix Blacksmith - ECPv6.15.20//NONSGML v1.0//EN
CALSCALE:GREGORIAN
METHOD:PUBLISH
X-WR-CALNAME:Rising Phoenix Blacksmith
X-ORIGINAL-URL:https://risingphoenixblacksmith.com
X-WR-CALDESC:Events for Rising Phoenix Blacksmith
REFRESH-INTERVAL;VALUE=DURATION:PT1H
X-Robots-Tag:noindex
X-PUBLISHED-TTL:PT1H
BEGIN:VTIMEZONE
TZID:America/New_York
BEGIN:DAYLIGHT
TZOFFSETFROM:-0500
TZOFFSETTO:-0400
TZNAME:EDT
DTSTART:20240310T070000
END:DAYLIGHT
BEGIN:STANDARD
TZOFFSETFROM:-0400
TZOFFSETTO:-0500
TZNAME:EST
DTSTART:20241103T060000
END:STANDARD
BEGIN:DAYLIGHT
TZOFFSETFROM:-0500
TZOFFSETTO:-0400
TZNAME:EDT
DTSTART:20250309T070000
END:DAYLIGHT
BEGIN:STANDARD
TZOFFSETFROM:-0400
TZOFFSETTO:-0500
TZNAME:EST
DTSTART:20251102T060000
END:STANDARD
BEGIN:DAYLIGHT
TZOFFSETFROM:-0500
TZOFFSETTO:-0400
TZNAME:EDT
DTSTART:20260308T070000
END:DAYLIGHT
BEGIN:STANDARD
TZOFFSETFROM:-0400
TZOFFSETTO:-0500
TZNAME:EST
DTSTART:20261101T060000
END:STANDARD
END:VTIMEZONE
BEGIN:VEVENT
DTSTART;TZID=America/New_York:20250606T090000
DTEND;TZID=America/New_York:20250607T170000
DTSTAMP:20260423T022701
CREATED:20250221T171254Z
LAST-MODIFIED:20250221T171254Z
UID:184-1749200400-1749315600@risingphoenixblacksmith.com
SUMMARY:Foxfire Heritage Days
DESCRIPTION:We will be in at the Foxfire Museum in Mountain City Georgia. We will be doing live demos with several other Blacksmiths and Bladesmiths\, as well as selling custom forged items. \nExplore Appalachian history and culture during this two-day festival\, held at the Foxfire Museum. Each day will feature special demonstrations\, hands-on activities\, and music for the whole family!
URL:https://risingphoenixblacksmith.com/event/foxfire-heritage-days/
CATEGORIES:Demo,Vending
END:VEVENT
END:VCALENDAR