BEGIN:VCALENDAR
VERSION:2.0
PRODID:-//Rising Phoenix Blacksmith - ECPv6.15.20//NONSGML v1.0//EN
CALSCALE:GREGORIAN
METHOD:PUBLISH
X-WR-CALNAME:Rising Phoenix Blacksmith
X-ORIGINAL-URL:https://risingphoenixblacksmith.com
X-WR-CALDESC:Events for Rising Phoenix Blacksmith
REFRESH-INTERVAL;VALUE=DURATION:PT1H
X-Robots-Tag:noindex
X-PUBLISHED-TTL:PT1H
BEGIN:VTIMEZONE
TZID:America/New_York
BEGIN:DAYLIGHT
TZOFFSETFROM:-0500
TZOFFSETTO:-0400
TZNAME:EDT
DTSTART:20240310T070000
END:DAYLIGHT
BEGIN:STANDARD
TZOFFSETFROM:-0400
TZOFFSETTO:-0500
TZNAME:EST
DTSTART:20241103T060000
END:STANDARD
BEGIN:DAYLIGHT
TZOFFSETFROM:-0500
TZOFFSETTO:-0400
TZNAME:EDT
DTSTART:20250309T070000
END:DAYLIGHT
BEGIN:STANDARD
TZOFFSETFROM:-0400
TZOFFSETTO:-0500
TZNAME:EST
DTSTART:20251102T060000
END:STANDARD
BEGIN:DAYLIGHT
TZOFFSETFROM:-0500
TZOFFSETTO:-0400
TZNAME:EDT
DTSTART:20260308T070000
END:DAYLIGHT
BEGIN:STANDARD
TZOFFSETFROM:-0400
TZOFFSETTO:-0500
TZNAME:EST
DTSTART:20261101T060000
END:STANDARD
END:VTIMEZONE
BEGIN:VEVENT
DTSTART;TZID=America/New_York:20250628T080000
DTEND;TZID=America/New_York:20250628T170000
DTSTAMP:20260423T022707
CREATED:20250613T161116Z
LAST-MODIFIED:20250627T160628Z
UID:313-1751097600-1751130000@risingphoenixblacksmith.com
SUMMARY:Forge a knife
DESCRIPTION:2 Openings for a forge a knife class. You will have the choice of 3 types of knives\, and will make one from start to finish in 1 day. \nPrice depends on the type of knife you choose to make. $85 up to $225
URL:https://risingphoenixblacksmith.com/event/forge-a-knife/
LOCATION:Rising Phoenix Blacksmith\, East Flat Rock\, NC\, 28726\, United States
CATEGORIES:Classes
END:VEVENT
END:VCALENDAR