BEGIN:VCALENDAR
VERSION:2.0
PRODID:-//Rising Phoenix Blacksmith - ECPv6.15.20//NONSGML v1.0//EN
CALSCALE:GREGORIAN
METHOD:PUBLISH
X-ORIGINAL-URL:https://risingphoenixblacksmith.com
X-WR-CALDESC:Events for Rising Phoenix Blacksmith
REFRESH-INTERVAL;VALUE=DURATION:PT1H
X-Robots-Tag:noindex
X-PUBLISHED-TTL:PT1H
BEGIN:VTIMEZONE
TZID:America/New_York
BEGIN:DAYLIGHT
TZOFFSETFROM:-0500
TZOFFSETTO:-0400
TZNAME:EDT
DTSTART:20240310T070000
END:DAYLIGHT
BEGIN:STANDARD
TZOFFSETFROM:-0400
TZOFFSETTO:-0500
TZNAME:EST
DTSTART:20241103T060000
END:STANDARD
BEGIN:DAYLIGHT
TZOFFSETFROM:-0500
TZOFFSETTO:-0400
TZNAME:EDT
DTSTART:20250309T070000
END:DAYLIGHT
BEGIN:STANDARD
TZOFFSETFROM:-0400
TZOFFSETTO:-0500
TZNAME:EST
DTSTART:20251102T060000
END:STANDARD
BEGIN:DAYLIGHT
TZOFFSETFROM:-0500
TZOFFSETTO:-0400
TZNAME:EDT
DTSTART:20260308T070000
END:DAYLIGHT
BEGIN:STANDARD
TZOFFSETFROM:-0400
TZOFFSETTO:-0500
TZNAME:EST
DTSTART:20261101T060000
END:STANDARD
END:VTIMEZONE
BEGIN:VEVENT
DTSTART;TZID=America/New_York:20250131T080000
DTEND;TZID=America/New_York:20250202T170000
DTSTAMP:20260423T065554
CREATED:20241217T123600Z
LAST-MODIFIED:20241217T123600Z
UID:136-1738310400-1738515600@risingphoenixblacksmith.com
SUMMARY:Closed for Special Event
DESCRIPTION:We are Closed for a Special Event this weekend. Let us know if we can help you.
URL:https://risingphoenixblacksmith.com/event/closed-for-special-event/
LOCATION:Rising Phoenix Blacksmith\, East Flat Rock\, NC\, 28726\, United States
END:VEVENT
BEGIN:VEVENT
DTSTART;TZID=America/New_York:20250204T160000
DTEND;TZID=America/New_York:20250204T190000
DTSTAMP:20260423T065554
CREATED:20250127T172426Z
LAST-MODIFIED:20250127T172937Z
UID:174-1738684800-1738695600@risingphoenixblacksmith.com
SUMMARY:Railroad Spike Knife Class 2 openings
DESCRIPTION:We have 2 open slots for Railroad spike knife class. \nCall\, text\, or email if you are interested.
URL:https://risingphoenixblacksmith.com/event/railroad-spike-knife-class-2-openings-2/
LOCATION:Rising Phoenix Blacksmith\, East Flat Rock\, NC\, 28726\, United States
CATEGORIES:Classes
END:VEVENT
BEGIN:VEVENT
DTSTART;TZID=America/New_York:20250207T080000
DTEND;TZID=America/New_York:20250210T170000
DTSTAMP:20260423T065554
CREATED:20241228T214530Z
LAST-MODIFIED:20250123T174354Z
UID:162-1738915200-1739206800@risingphoenixblacksmith.com
SUMMARY:Closed for Private event
DESCRIPTION:We are closed this weekend for a private event
URL:https://risingphoenixblacksmith.com/event/closed-for-private-event/
END:VEVENT
BEGIN:VEVENT
DTSTART;TZID=America/New_York:20250211T160000
DTEND;TZID=America/New_York:20250211T190000
DTSTAMP:20260423T065554
CREATED:20250127T172602Z
LAST-MODIFIED:20250127T172916Z
UID:176-1739289600-1739300400@risingphoenixblacksmith.com
SUMMARY:Railroad Spike Knife Class ( 2 Openings)
DESCRIPTION:We have 2 spots available for making Railroad Spike knives. \n  \nCall or text if you are interested.
URL:https://risingphoenixblacksmith.com/event/railroad-spike-knife-class-2-openings-3/
LOCATION:Rising Phoenix Blacksmith\, East Flat Rock\, NC\, 28726\, United States
CATEGORIES:Classes
END:VEVENT
BEGIN:VEVENT
DTSTART;TZID=America/New_York:20250215T080000
DTEND;TZID=America/New_York:20250215T180000
DTSTAMP:20260423T065554
CREATED:20250127T172757Z
LAST-MODIFIED:20250127T172849Z
UID:178-1739606400-1739642400@risingphoenixblacksmith.com
SUMMARY:Full knife class (2 spots available)
DESCRIPTION:Come forge your own 4″ drop point knife with us. \nCall or text for details. (828)-216-2358
URL:https://risingphoenixblacksmith.com/event/full-knife-class-2-spots-available/
LOCATION:Rising Phoenix Blacksmith\, East Flat Rock\, NC\, 28726\, United States
CATEGORIES:Classes
END:VEVENT
END:VCALENDAR