BEGIN:VCALENDAR
VERSION:2.0
PRODID:-//Rising Phoenix Blacksmith - ECPv6.15.20//NONSGML v1.0//EN
CALSCALE:GREGORIAN
METHOD:PUBLISH
X-ORIGINAL-URL:https://risingphoenixblacksmith.com
X-WR-CALDESC:Events for Rising Phoenix Blacksmith
REFRESH-INTERVAL;VALUE=DURATION:PT1H
X-Robots-Tag:noindex
X-PUBLISHED-TTL:PT1H
BEGIN:VTIMEZONE
TZID:America/New_York
BEGIN:DAYLIGHT
TZOFFSETFROM:-0500
TZOFFSETTO:-0400
TZNAME:EDT
DTSTART:20240310T070000
END:DAYLIGHT
BEGIN:STANDARD
TZOFFSETFROM:-0400
TZOFFSETTO:-0500
TZNAME:EST
DTSTART:20241103T060000
END:STANDARD
BEGIN:DAYLIGHT
TZOFFSETFROM:-0500
TZOFFSETTO:-0400
TZNAME:EDT
DTSTART:20250309T070000
END:DAYLIGHT
BEGIN:STANDARD
TZOFFSETFROM:-0400
TZOFFSETTO:-0500
TZNAME:EST
DTSTART:20251102T060000
END:STANDARD
BEGIN:DAYLIGHT
TZOFFSETFROM:-0500
TZOFFSETTO:-0400
TZNAME:EDT
DTSTART:20260308T070000
END:DAYLIGHT
BEGIN:STANDARD
TZOFFSETFROM:-0400
TZOFFSETTO:-0500
TZNAME:EST
DTSTART:20261101T060000
END:STANDARD
END:VTIMEZONE
BEGIN:VEVENT
DTSTART;VALUE=DATE:20250324
DTEND;VALUE=DATE:20250325
DTSTAMP:20260423T052353
CREATED:20250304T170352Z
LAST-MODIFIED:20250304T170352Z
UID:272-1742774400-1742860799@risingphoenixblacksmith.com
SUMMARY:Private Event
DESCRIPTION:We will be closed on March 24th for a private event.
URL:https://risingphoenixblacksmith.com/event/private-event/
LOCATION:Rising Phoenix Blacksmith\, East Flat Rock\, NC\, 28726\, United States
END:VEVENT
BEGIN:VEVENT
DTSTART;TZID=America/New_York:20250325T160000
DTEND;TZID=America/New_York:20250325T190000
DTSTAMP:20260423T052353
CREATED:20250320T133212Z
LAST-MODIFIED:20250320T133212Z
UID:281-1742918400-1742929200@risingphoenixblacksmith.com
SUMMARY:Open Railroad Spike Knife Class
DESCRIPTION:2 opening for Railroad Spike Knife class. This runs from 4pm to 7pm.
URL:https://risingphoenixblacksmith.com/event/open-railroad-spike-knife-class/
LOCATION:Rising Phoenix Blacksmith\, East Flat Rock\, NC\, 28726\, United States
END:VEVENT
BEGIN:VEVENT
DTSTART;TZID=America/New_York:20250327T160000
DTEND;TZID=America/New_York:20250327T190000
DTSTAMP:20260423T052353
CREATED:20250320T133617Z
LAST-MODIFIED:20250320T133617Z
UID:285-1743091200-1743102000@risingphoenixblacksmith.com
SUMMARY:2 Openings for a Railroad Spike Knife Class
DESCRIPTION:We have to open slots for making your own Railroad Spike knife.
URL:https://risingphoenixblacksmith.com/event/2-openings-for-a-railroad-spike-knife-class/
LOCATION:Rising Phoenix Blacksmith\, East Flat Rock\, NC\, 28726\, United States
END:VEVENT
BEGIN:VEVENT
DTSTART;TZID=America/New_York:20250329T080000
DTEND;TZID=America/New_York:20250329T180000
DTSTAMP:20260423T052353
CREATED:20250320T133422Z
LAST-MODIFIED:20250320T133422Z
UID:283-1743235200-1743271200@risingphoenixblacksmith.com
SUMMARY:Open Knife Class
DESCRIPTION:We have 2 openings for a full tang knife class. \nYou will forge and finish your own knife approx. 4″ blade. \nContact us for details
URL:https://risingphoenixblacksmith.com/event/open-knife-class/
LOCATION:Rising Phoenix Blacksmith\, East Flat Rock\, NC\, 28726\, United States
END:VEVENT
END:VCALENDAR